BEGIN:VCALENDAR
VERSION:2.0
PRODID:DPCALENDAR
CALSCALE:GREGORIAN
BEGIN:VTIMEZONE
TZID:Europe/Berlin
X-MICROSOFT-CDO-TZID:4
BEGIN:STANDARD
DTSTART:20251026T010000
TZOFFSETFROM:+0200
TZOFFSETTO:+0100
TZNAME:CET
END:STANDARD
BEGIN:STANDARD
DTSTART:20261025T010000
TZOFFSETFROM:+0200
TZOFFSETTO:+0100
TZNAME:CET
END:STANDARD
BEGIN:DAYLIGHT
DTSTART:20260329T010000
TZOFFSETFROM:+0100
TZOFFSETTO:+0200
TZNAME:CEST
END:DAYLIGHT
END:VTIMEZONE
X-WR-TIMEZONE:Europe/Berlin
BEGIN:VEVENT
DTSTART;TZID=Europe/Berlin:20260207T130000
DTEND;TZID=Europe/Berlin:20260208T130000
UID:73B4A83F-DA6A-45AD-B5CC-49FB43EE1B0E
SUMMARY:Probenwochenende
CREATED:20260107T204408Z
DTSTAMP:20260107T204408Z
URL:https://musikverein-lutten.de/component/dpcalendar/event/3?calid=46
LAST-MODIFIED:20260107T204408Z
SEQUENCE:0
X-ACCESS:1
X-HITS:99
X-COLOR:3366cc
X-SHOW-END-TIME:1
END:VEVENT
END:VCALENDAR